BEGIN:VCALENDAR
VERSION:2.0
PRODID:-//Fishers Music Academy - ECPv4.8.2//NONSGML v1.0//EN
CALSCALE:GREGORIAN
METHOD:PUBLISH
X-WR-CALNAME:Fishers Music Academy
X-ORIGINAL-URL:https://fishersmusicacademy.com
X-WR-CALDESC:Events for Fishers Music Academy
BEGIN:VEVENT
DTSTART;TZID=UTC+0:20210717T130000
DTEND;TZID=UTC+0:20210717T140000
DTSTAMP:20260424T043525
CREATED:20210629T044825Z
LAST-MODIFIED:20210629T044926Z
UID:2978-1626526800-1626530400@fishersmusicacademy.com
SUMMARY:July Jam
DESCRIPTION:July Jam takes place at Fishers Music Academy on Saturday\, July 17th from 1-2pm. Parking will be available in the field just north of the studio building\, across the street. Please bring a lawn chair and some snacks\, and get ready to listen to some fantastic student performances. \n
URL:https://fishersmusicacademy.com/event/july-jam/
LOCATION:FMA\, 8923 South Street\, Fishers\, IN\, 46038\, United States
ATTACH;FMTTYPE=image/jpeg:https://fishersmusicacademy.com/wp-content/uploads/2021/06/E9715C66-C8C1-4DD3-A8B8-7A35922A711C_1_201_a.jpeg
END:VEVENT
END:VCALENDAR