BEGIN:VCALENDAR
VERSION:2.0
PRODID:-//Fishers Music Academy - ECPv4.8.2//NONSGML v1.0//EN
CALSCALE:GREGORIAN
METHOD:PUBLISH
X-WR-CALNAME:Fishers Music Academy
X-ORIGINAL-URL:https://fishersmusicacademy.com
X-WR-CALDESC:Events for Fishers Music Academy
BEGIN:VEVENT
DTSTART;VALUE=DATE:20190329
DTEND;VALUE=DATE:20190406
DTSTAMP:20260424T070149
CREATED:20190323T001406Z
LAST-MODIFIED:20190323T001406Z
UID:2715-1553817600-1554508799@fishersmusicacademy.com
SUMMARY:spring break 2019
DESCRIPTION: \n
URL:https://fishersmusicacademy.com/event/spring-break-2019/
ATTACH;FMTTYPE=image/png:https://fishersmusicacademy.com/wp-content/uploads/2017/09/key.png
END:VEVENT
END:VCALENDAR